BEGIN:VCALENDAR
VERSION:2.0
PRODID:-//ChamberMaster//Event Calendar 2.0//EN
METHOD:PUBLISH
X-PUBLISHED-TTL:P3D
REFRESH-INTERVAL:P3D
CALSCALE:GREGORIAN
BEGIN:VEVENT
DTSTART:20250822T220000Z
DTEND:20250823T020000Z
X-MICROSOFT-CDO-ALLDAYEVENT:FALSE
SUMMARY:BNHV: 50th Anniversary Barn Dance 8/22/25
DESCRIPTION:BBQ dinner provided by Weidner BBQ\n\nRaffles\, Live and Silent Auctions\n\nLine Dancing Lesson with Jillian Lillian\n\nEmcee & Auctioneer Jon DiSciullo\, WBBZ TV\n\nMusic provided by Extreme Illumination and Sound\n\nTickets include food\, beverages\, entertainment\, line dancing lessons\, raffles\, and more!
X-ALT-DESC;FMTTYPE=text/html:<p>BBQ dinner provided by Weidner BBQ<br>\nRaffles\, Live and Silent Auctions<br>\nLine Dancing Lesson with Jillian Lillian<br>\nEmcee &amp\; Auctioneer Jon DiSciullo\, WBBZ TV<br>\nMusic provided by Extreme Illumination and Sound<br>\nTickets include food\, beverages\, entertainment\, line dancing lessons\, raffles\, and more!</p>\n
LOCATION:Buffalo Niagara Heritage Village
UID:e.2856.8673
SEQUENCE:3
DTSTAMP:20260426T020047Z
URL:https://business.amherst.org/events/details/bnhv-50th-anniversary-barn-dance-8-22-25-8673
END:VEVENT

END:VCALENDAR
