BEGIN:VCALENDAR
VERSION:2.0
PRODID:-//ChamberMaster//Event Calendar 2.0//EN
METHOD:PUBLISH
X-PUBLISHED-TTL:P3D
REFRESH-INTERVAL:P3D
CALSCALE:GREGORIAN
BEGIN:VEVENT
DTSTART:20180220T220000Z
DTEND:20180221T000000Z
X-MICROSOFT-CDO-ALLDAYEVENT:FALSE
SUMMARY:Business After Hours
DESCRIPTION:Have you checked out the new Whole Foods? Join us in the store's new Bar 1818 for February's Business After Hours. They also have bocce courts! A fun way to make some new business connections! See you there!\n\n \n\n\n\nThis informal monthly networking event is the perfect way to get to know one another and create beneficial relationships. It is free to members and you are welcomed to bring first time guests.
X-ALT-DESC;FMTTYPE=text/html:Have you checked out the new Whole Foods? Join us in the store&#39\;s new Bar 1818 for February&#39\;s Business After Hours. They also have bocce courts! A fun way to make some new business connections! See you there!<br />\n&nbsp\;<br />\n<br />\nThis informal monthly networking event is the perfect way to get to know one another and create beneficial relationships. It is free to members and you are welcomed to bring first time guests.&nbsp\;
LOCATION:Whole Foods Bar 1818 3139 Sheridan Drive Amherst\, NY 14226
UID:e.2856.1753
SEQUENCE:3
DTSTAMP:20260419T135605Z
URL:https://business.amherst.org/events/details/business-after-hours-1753
END:VEVENT

END:VCALENDAR
