BEGIN:VCALENDAR
VERSION:2.0
PRODID:-//ChamberMaster//Event Calendar 2.0//EN
METHOD:PUBLISH
X-PUBLISHED-TTL:P3D
REFRESH-INTERVAL:P3D
CALSCALE:GREGORIAN
BEGIN:VEVENT
DTSTART:20240611T213000Z
DTEND:20240612T003000Z
X-MICROSOFT-CDO-ALLDAYEVENT:FALSE
SUMMARY:Guest Chef Series - Seafood & Spritz
DESCRIPTION:MEMBER COLLAB!!\n\n\n\nPatina 250 and Curate Hospitality have partnered with Fresh Catch for the next installment of our Guest Chef Series to bring you a seafood-inspired prelude to summer!\n\nJoin us in the beautiful Patina 250 courtyard to enjoy a curated menu made for seafood lovers featuring fifteen varieties of seafood from Bluefin Tuna to Sturgeon Caviar\, all ethically and sustainably sourced from Fresh Catch's network of farmers and fishermen.\n\nGuests begin their seafood journey at golden hour with a specialty raw bar featuring live chef and champagne pairing along with passed small bites\, and then partake in an exquisite five-course seated dinner\, ending on dessert\, artfully prepared by Patina's celebrated in-house pastry chef (the only dish sans seafood)! A complimentary curation of beverage pairings including Prosecco\, Ros  and a selection of wine will be served throughout the evening. Music stylings from DJ Cutler set a vibey coastal mood. A can't-miss culinary event for the "sea-foodie"!
X-ALT-DESC;FMTTYPE=text/html:<p>MEMBER COLLAB!!<br />\n<br />\nPatina 250 and <strong>Curate Hospitality</strong> have partnered with <strong>Fresh Catch</strong> for the next installment of our Guest Chef Series to bring you a seafood-inspired prelude to summer!</p>\n\n<p>Join us in the beautiful Patina 250 courtyard to enjoy a curated menu made for seafood lovers featuring fifteen varieties of seafood from Bluefin Tuna to Sturgeon Caviar\, all ethically and sustainably sourced from Fresh Catch&#39\;s network of farmers and fishermen.</p>\n\n<p>Guests begin their seafood journey at golden hour with a specialty raw bar featuring live chef and champagne pairing along with passed small bites\, and then partake in an exquisite five-course seated dinner\, ending on dessert\, artfully prepared by Patina&#39\;s celebrated in-house pastry chef (the only dish sans seafood)! A complimentary curation of beverage pairings including Prosecco\, Ros&eacute\; and a selection of wine will be served throughout the evening. Music stylings from DJ Cutler set a vibey coastal mood. A can&#39\;t-miss culinary event for the &quot\;sea-foodie&quot\;!</p>\n
LOCATION:Patina 250 and the Westin Courtyard 250 Delaware Ave Buffalo\, NY 14202
UID:e.2856.7000
SEQUENCE:3
DTSTAMP:20260419T214645Z
URL:https://business.amherst.org/events/details/guest-chef-series-seafood-spritz-7000
END:VEVENT

END:VCALENDAR
