BEGIN:VCALENDAR
VERSION:2.0
PRODID:-//ChamberMaster//Event Calendar 2.0//EN
METHOD:PUBLISH
X-PUBLISHED-TTL:P3D
REFRESH-INTERVAL:P3D
CALSCALE:GREGORIAN
BEGIN:VEVENT
DTSTART:20260515T230000Z
DTEND:20260516T030000Z
X-MICROSOFT-CDO-ALLDAYEVENT:FALSE
SUMMARY:Kickin’ It Country 5/15/26
DESCRIPTION:Kickin' It Country\n\nTo Benefit Kaely's Kindness Foundation\n\nBring out the denim\, the boots\, and the fun! \n\n\n\n\n\nLive Music by\n\nWest of the Mark \n\nDJ & Line Dancing Lesson\n\nby DJ Justin \n\nMechanical Bull \n\nWestern Food Displays\n\n\n\n\n\n  Schedule Of Events   \n\n7:00 p.m.\n\nEvent Begins \n\n7:30 p.m.\n\nLine Dancing Lesson by DJ Justin\n\nFood Display Open\n\n8:00-9:15 p.m.\n\nWest of the Mark \n\ntakes the stage\n\n9:15-9:45 p.m.\n\nDJ Justin\n\n9:45 -11:00 p.m.\n\nWest of the Mark takes the stage\n\n11:00 p.m.\n\nEvent Concludes\n\n\n\n\n\n \n\n\n\n\n\n \n\n\n\n\n\nAll tickets include mechanical bull rides and line dancing lessons!\n\n\n\n \n\nDetails:\n\nhttps://salvatoresexperiences.com/kickin-it-country\n\nVIP Tickets:\n\nhttps://resy.com/cities/buffalo-ny/venues/italian-prime-at-salvatores/events/kicked-it-country-vip-ticket-75-per-person-open-bar-food-included-2026-05-15?date=2026-03-27&seats=2 \n\n\n\nGeneral Admission Tickets:\n\nhttps://resy.com/cities/buffalo-ny/venues/italian-prime-at-salvatores/events/kicked-it-country-general-admission-food-included-35-per-person-2026-05-15?date=2026-03-27&seats=2
X-ALT-DESC;FMTTYPE=text/html:<div style="text-align:center">\n<div>\n<p><span style="font-size:20px"><strong><span style="font-family:times new roman">Kickin&rsquo\; It Country</span></strong></span></p>\n\n<p><em>To Benefit Kaely&rsquo\;s Kindness Foundation</em></p>\n\n<p><strong><em>Bring out the denim\, the boots\, and the fun!&nbsp\;</em></strong></p>\n</div>\n</div>\n\n<div style="text-align:center">\n<div>\n<p>Live Music by<br />\n<strong>West of the Mark&nbsp\;</strong></p>\n\n<p>DJ &amp\; Line Dancing Lesson<br />\nby DJ Justin&nbsp\;</p>\n\n<p>Mechanical Bull&nbsp\;</p>\n\n<p>Western Food Displays</p>\n</div>\n</div>\n\n<div style="text-align:center">\n<div>\n<p>&mdash\; Schedule Of Events &mdash\;&nbsp\;</p>\n\n<p>7:00 p.m.<br />\nEvent Begins&nbsp\;</p>\n\n<p>7:30 p.m.<br />\nLine Dancing Lesson by DJ Justin<br />\nFood Display Open</p>\n\n<p>8:00-9:15 p.m.<br />\n<span style="font-family:times new roman"><span style="font-size:17px"><strong>West of the Mark </strong></span></span></p>\n\n<p><span style="font-size:17px">takes the stage</span></p>\n\n<p>9:15-9:45 p.m.<br />\nDJ Justin</p>\n\n<p>9:45 -11:00 p.m.<br />\nWest of the Mark takes the stage</p>\n\n<p>11:00 p.m.<br />\nEvent Concludes</p>\n</div>\n</div>\n\n<div>\n<div>\n<div style="text-align:center">&nbsp\;</div>\n</div>\n</div>\n\n<div>\n<div>\n<div style="text-align:center">&nbsp\;</div>\n</div>\n</div>\n\n<div style="text-align:center">\n<div>\n<p><strong><em>All tickets include mechanical bull rides and line dancing lessons!</em></strong></p>\n</div>\n</div>\n\n<p style="text-align:center">&nbsp\;</p>\n\n<p style="text-align:center"><strong><a href="https://salvatoresexperiences.com/kickin-it-country">Details</a>:</strong><br />\nhttps://salvatoresexperiences.com/kickin-it-country</p>\n\n<p style="text-align:center"><a href="https://resy.com/cities/buffalo-ny/venues/italian-prime-at-salvatores/events/kicked-it-country-vip-ticket-75-per-person-open-bar-food-included-2026-05-15?date=2026-03-27&amp\;seats=2"><strong>VIP Tickets:</strong></a><br />\nhttps://resy.com/cities/buffalo-ny/venues/italian-prime-at-salvatores/events/kicked-it-country-vip-ticket-75-per-person-open-bar-food-included-2026-05-15?date=2026-03-27&amp\;seats=2&nbsp\;<br />\n<br />\n<a href="https://resy.com/cities/buffalo-ny/venues/italian-prime-at-salvatores/events/kicked-it-country-general-admission-food-included-35-per-person-2026-05-15?date=2026-03-27&amp\;seats=2"><strong>General Admission Tickets:</strong></a><br />\nhttps://resy.com/cities/buffalo-ny/venues/italian-prime-at-salvatores/events/kicked-it-country-general-admission-food-included-35-per-person-2026-05-15?date=2026-03-27&amp\;seats=2</p>\n\n<p style="text-align:center">&nbsp\;</p>\n
LOCATION:Salvatore's Hospitality 6461 Transit Rd\, Depew\, NY 14043
UID:e.2856.8932
SEQUENCE:3
DTSTAMP:20260425T234051Z
URL:https://business.amherst.org/events/details/kickin-it-country-5-15-26-8932
END:VEVENT

END:VCALENDAR
