BEGIN:VCALENDAR
VERSION:2.0
PRODID:-//ChamberMaster//Event Calendar 2.0//EN
METHOD:PUBLISH
X-PUBLISHED-TTL:P3D
REFRESH-INTERVAL:P3D
CALSCALE:GREGORIAN
BEGIN:VEVENT
DTSTART:20260506T123000Z
DTEND:20260506T131500Z
X-MICROSOFT-CDO-ALLDAYEVENT:FALSE
SUMMARY:LIFT Book Club: 5/6/26 8:30am
DESCRIPTION:Leadership & Inspiration for Trailblazers (LIFT) is a women's networking group that focuses on the core values of Empowerment\, Education\, Connection\, Inspiration\, and Inclusion of our WNY community. We welcome you to engage with this group to find self discovery and contribution to your professional journey. The mission is to support professional women so they can succeed. Male Allies welcome.\n\n                                                                     \n\nLIFT Book Club: Each session is limited to 10-12 seats\n\n\n\nJoin us for more than just a book club this is a space where women lift each other up\, share stories that spark courage\, and build meaningful connections within our Chamber community. Together\, we'll explore ideas that challenge and inspire\, creating an intimate experience that celebrates growth and empowerment.\n\n\n\nBook Choice:\n\n"The Edible Woman" by Margaret Atwood *FICTION*\n\nISBN    9780385491068  |  Published on Mar 16\, 1998 |  Published by Vintage  |  Pages 320\n\n\n\nParticipants would be required to borrow or purchase their own Book or eBook from any notable retailer.\n\nMost sessions are VIRTUAL on Wednesdays. The link will be emailed prior to session start.\n\nThe final session on Tuesday\, June 23rd\, will be in-person at the Amherst Chamber of Commerce at 12pm for ALL sessions to review and conclude the readings. Lunch will be served.\n\n\n\n8:30am Session Facilitator: Lauren Schellinger\, Impressia Bank\n\n	Time: 8:30-9:15am\n	Date: Bi Weekly Virtual Wednesdays\n	\n		5/6/2026\n		5/20/2026\n		6/3/2026\n		6/17/2026\n		 6/23/2026 *Tuesday Due to Small Business Awards on Wednesday\, 6/24/26*\n		\n			End Lunch Joint Session: In person at Amherst Chamber on Tuesday at 12:00pm on 6/23/2026\n		\n		\n	\n	\n\n\n\n\n\n\n\nBook Description\n\nThe novel that put the bestselling author of The Handmaid's Tale and The Testaments on the literary map. The Booker Prize winner's first novel is both a scathingly funny satire of consumerism and a heady exploration of emotional cannibalism.\n\n\n\nMarian McAlpin is an "abnormally normal" young woman\, according to her friends. A recent university graduate\, she crafts consumer surveys for a market research firm\, maintains an uneasy truce between her flighty roommate and their prudish landlady\, and goes to parties with her solidly dependable boyfriend\, Peter. But after Peter proposes marriage\, things take a strange turn. Suddenly empathizing with the steak in a restaurant\, Marian finds she is unable to eat meat. As the days go by\, her feeling of solidarity extends to other categories of food\, until there is almost nothing left that she can bring herself to consume. Those around her fail to notice Marian's growing alienation until it culminates in an act of resistance that is as startling as it is imaginative. Marked by blazingly surreal humor and a colorful cast of eccentric characters\, The Edible Woman is a groundbreaking work of fiction.
X-ALT-DESC;FMTTYPE=text/html:<span style="font-size:12px\;"><span style="font-family:verdana\;"><span style="color: rgb(255\, 140\, 0)\;">&gt\;&gt\;&gt\;&gt\;&gt\;&gt\;&gt\;&gt\;&gt\;&gt\;&gt\;&gt\;&gt\;&gt\;&gt\;&gt\;&gt\;&gt\;&gt\;&gt\;&gt\;&gt\;&gt\;&gt\;&gt\;&gt\;&gt\;&gt\;&gt\;&gt\;&gt\;&gt\;&gt\;&gt\;&gt\;&gt\;&gt\;&gt\;&gt\;&gt\;&gt\;&gt\;&gt\;&gt\;&gt\;&gt\;&gt\;&gt\;&gt\;&gt\;&gt\;&gt\;&gt\;&gt\;&gt\;&gt\;&gt\;&gt\;&gt\;&gt\;&gt\;&gt\;&gt\;&gt\;&gt\;&gt\;&gt\;&gt\;&gt\;</span><br />\n<em><span style="font-weight: bold\;"><span style="color: rgb(233\, 113\, 50)\;">Leadership &amp\; Inspiration for Trailblazers (LIFT)&nbsp\;</span></span><span style="color: black\;">is a women&#39\;s networking group that focuses on the core values of Empowerment\, Education\, Connection\, Inspiration\, and Inclusion of our WNY community. We welcome you to engage with this group to find self discovery and contribution to your professional journey.</span>&nbsp\;<span style="color: black\;">The mission is to support professional women so they can succeed. Male Allies welcome.</span></em><br />\n<span style="color: rgb(255\, 140\, 0)\;">&gt\;&gt\;&gt\;&gt\;&gt\;&gt\;&gt\;&gt\;&gt\;&gt\;&gt\;&gt\;&gt\;&gt\;&gt\;&gt\;&gt\;&gt\;&gt\;&gt\;&gt\;&gt\;&gt\;&gt\;&gt\;&gt\;&gt\;&gt\;&gt\;&gt\;&gt\;&gt\;&gt\;&gt\;&gt\;&gt\;&gt\;&gt\;&gt\;&gt\;&gt\;&gt\;&gt\;&gt\;&gt\;&gt\;&gt\;&gt\;&gt\;&gt\;&gt\;&gt\;&gt\;&gt\;&gt\;&gt\;&gt\;&gt\;&gt\;&gt\;&gt\;&gt\;&gt\;&gt\;&gt\;&gt\;&gt\;&gt\;&gt\;</span><br />\n<strong>LIFT Book Club: Each session is limited to 10-12 seats</strong><br />\n<br />\n<strong><span style="color:#FF8C00\;"><em>Join us for more than just a book club&mdash\;this is a space where women lift each other up\, share stories that spark courage\, and build meaningful connections within our Chamber community. Together\, we&rsquo\;ll explore ideas that challenge and inspire\, creating an intimate experience that celebrates growth and empowerment.</em></span></strong><br />\n<br />\n<strong><u>Book Choice:</u><br />\n<span style="font-size:20px\;"><span style="color:#008000\;">&quot\;The Edible Woman&quot\; by Margaret Atwood *FICTION*</span></span></strong></span></span><br />\n<span style="font-family: Fort-Book\; font-size: 12px\;"><span style="font-family: verdana\;">ISBN</span></span><span style="font-family: Fort-Book\;">&nbsp\;&nbsp\;&nbsp\;&nbsp\;</span><span style="font-family: Fort-Book\; font-size: 12px\;"><span style="font-family: verdana\;">9780385491068&nbsp\; |&nbsp\; Published on Mar 16\, 1998 |&nbsp\; Published by Vintage&nbsp\; |&nbsp\; Pages 320</span></span><br />\n<br />\n<span style="font-size:12px\;"><span style="font-family:verdana\;">Participants would be required to borrow or purchase their own Book or eBook from any notable retailer.<br />\nMost sessions are VIRTUAL on Wednesdays. The link will be emailed prior to session start.<br />\nThe final session on Tuesday\, June 23rd\, will be in-person at the Amherst Chamber of Commerce at 12pm for ALL sessions to review and conclude the readings.&nbsp\;Lunch will be served.<br />\n<br />\n<span style="color: rgb(128\, 0\, 0)\;"><strong><span style="background-color:#FFFF00\;">8:30am Session Facilitator: Lauren Schellinger\, Impressia Bank</span></strong></span></span></span>\n<ul>\n	<li><span style="font-size:12px\;"><span style="font-family:verdana\;">Time: 8:30-9:15am</span></span></li>\n	<li><span style="font-size:12px\;"><span style="font-family:verdana\;">Date: Bi Weekly Virtual Wednesdays</span></span>\n	<ul>\n		<li><span style="font-size:12px\;"><span style="font-family:verdana\;">5/6/2026</span></span></li>\n		<li><span style="font-size:12px\;"><span style="font-family:verdana\;">5/20/2026</span></span></li>\n		<li><span style="font-size:12px\;"><span style="font-family:verdana\;">6/3/2026</span></span></li>\n		<li><span style="font-size:12px\;"><span style="font-family:verdana\;">6/17/2026</span></span></li>\n		<li><span style="font-size:12px\;"><span style="font-family:verdana\;">&nbsp\;6/23/2026 *Tuesday Due to Small Business Awards on Wednesday\, 6/24/26*</span></span>\n		<ul>\n			<li><span style="font-size:12px\;"><span style="font-family:verdana\;">End Lunch Joint Session: In person at Amherst Chamber on <strong>Tuesday at 12:00pm on 6/23/2026</strong></span></span></li>\n		</ul>\n		</li>\n	</ul>\n	</li>\n</ul>\n\n<div background-color:="" class="theory-hero_sub-heading" color:="" dm="" font-size:="" font-style:="" font-weight:="" line-height:="" style="box-sizing: border-box\; max-width: 30rem\; font-family: ">\n<div aria-hidden="false" class="drawer-panel first-panel" font-size:="" helvetica="" id="drawer-book-description" style="box-sizing: border-box\; -webkit-font-smoothing: antialiased\; text-shadow: none\; text-rendering: optimizelegibility\; padding: 0px 0px 32px\; width: 968.257px\; font-family: Fort-Book\, ">\n<div class="book-description-content" style="box-sizing: border-box\; -webkit-font-smoothing: antialiased\; text-shadow: none\; text-rendering: optimizelegibility\; display: flex\; flex-direction: row\;">\n<div class="drawer-copy" style="box-sizing: border-box\; -webkit-font-smoothing: antialiased\; text-shadow: none\; text-rendering: optimizelegibility\; display: flex\; flex-direction: column\; margin: 0px 32px 0px 0px\;">\n<div class="drawer-copy-text" id="book-description-copy" style="box-sizing: border-box\; -webkit-font-smoothing: antialiased\; text-shadow: none\; text-rendering: optimizelegibility\; font-family: Fort-Book\; line-height: 22px\; margin: 0px 0px 30px\; max-width: 700px\; overflow: hidden\; position: relative\; transition: height 0.2s\; width: 664.268px\; height: 329.975px\;">\n<div class="copy-height" style="box-sizing: border-box\; -webkit-font-smoothing: antialiased\; text-shadow: none\; text-rendering: optimizelegibility\;"><span style="font-size:12px\;"><span style="font-family:verdana\;"><span style="box-sizing: border-box\; -webkit-font-smoothing: antialiased\; text-shadow: none\; text-rendering: optimizelegibility\;"><strong>Book Description<br />\nThe</strong>&nbsp\;</span><strong style="color: rgb(0\, 0\, 0)\; box-sizing: border-box\; -webkit-font-smoothing: antialiased\; text-shadow: none\; text-rendering: optimizelegibility\; font-weight: bold\;">novel that put the&nbsp\;bestselling author of&nbsp\;<span style="box-sizing: border-box\; -webkit-font-smoothing: antialiased\; text-shadow: none\; text-rendering: optimizelegibility\;">The Handmaid&rsquo\;s Tale</span>&nbsp\;and&nbsp\;<span style="box-sizing: border-box\; -webkit-font-smoothing: antialiased\; text-shadow: none\; text-rendering: optimizelegibility\;">The Testaments</span>&nbsp\;on the literary map.&nbsp\;The Booker Prize winner&rsquo\;s first novel is both a scathingly funny satire of consumerism and a heady exploration of emotional cannibalism.</strong><br style="box-sizing: border-box\; -webkit-font-smoothing: antialiased\; text-shadow: none\; text-rendering: optimizelegibility\;" />\n<br style="box-sizing: border-box\; -webkit-font-smoothing: antialiased\; text-shadow: none\; text-rendering: optimizelegibility\;" />\n<font color="#000000">Marian McAlpin is an &ldquo\;abnormally normal&rdquo\; young woman\, according to her friends. A recent university graduate\, she crafts consumer surveys for a market research firm\, maintains an uneasy truce between her flighty roommate and their prudish landlady\, and goes to parties with her solidly dependable boyfriend\, Peter. But after Peter proposes marriage\, things take a strange turn. Suddenly empathizing with the steak in a restaurant\, Marian finds she is unable to eat meat. As the days go by\, her feeling of solidarity extends to other categories of food\, until there is almost nothing left that she can bring herself to consume. Those around her fail to notice Marian&rsquo\;s growing alienation&mdash\;until it culminates in an act of resistance that is as startling as it is imaginative. Marked by blazingly surreal humor and a colorful cast of eccentric characters\,&nbsp\;</font><span style="color: rgb(0\, 0\, 0)\; box-sizing: border-box\; -webkit-font-smoothing: antialiased\; text-shadow: none\; text-rendering: optimizelegibility\;">The Edible Woman&nbsp\;</span><font color="#000000">is a groundbreaking work of fiction.</font></span></span><br />\n<br />\n<br />\n<br />\n&nbsp\;\n<p style="color: rgb(0\, 0\, 0)\; box-sizing: border-box\; -webkit-font-smoothing: antialiased\; text-shadow: none\; text-rendering: optimizelegibility\; margin: 0px 0px 12px\; font-family: Fort-Light\; font-size: 16px\; line-height: 22px\;">&nbsp\;</p>\n</div>\n</div>\n</div>\n</div>\n</div>\n</div>\n
LOCATION:Virtual. Link will be sent prior to session start
UID:e.2856.8927
SEQUENCE:3
DTSTAMP:20260420T181637Z
URL:https://business.amherst.org/events/details/lift-book-club-5-6-26-8-30am-8927
END:VEVENT

END:VCALENDAR
