BEGIN:VCALENDAR
VERSION:2.0
PRODID:-//ChamberMaster//Event Calendar 2.0//EN
METHOD:PUBLISH
X-PUBLISHED-TTL:P3D
REFRESH-INTERVAL:P3D
CALSCALE:GREGORIAN
BEGIN:VEVENT
DTSTART:20250723T203000Z
DTEND:20250723T223000Z
X-MICROSOFT-CDO-ALLDAYEVENT:FALSE
SUMMARY:Patrick's Rooftop: Sip and Support 7/23/25
DESCRIPTION:Ellicott Hotels\, Networking with a Purpose Happy Hour\, at Patrick's Rooftop located in the 500 Pearl Building in Downtown Buffalo. $1 per drink purchased will go to Shine Gold for the Kids. RSVP by using the QR code and your first drink is on us. Light fare included rain or shine! Tours available of 500 Pearl on request that evening.
X-ALT-DESC;FMTTYPE=text/html:Ellicott Hotels\, Networking with a Purpose Happy Hour\, at Patrick&#39\;s Rooftop located in the 500 Pearl Building in Downtown Buffalo. $1 per drink purchased will go to Shine Gold for the Kids. RSVP by using the QR code and your first drink is on us. Light fare included rain or shine! Tours available of 500 Pearl on request that evening.&nbsp\;
LOCATION:Patrick's Rooftop\, located at 500 Pearl Street\, Buffalo\, NY\, 14202 Enter at lobby\, and we will take you up from there!
UID:e.2856.8695
SEQUENCE:3
DTSTAMP:20260426T031945Z
URL:https://business.amherst.org/events/details/patrick-s-rooftop-sip-and-support-7-23-25-8695
END:VEVENT

END:VCALENDAR
